BEGIN:VCALENDAR
PRODID:-
VERSION:2.0
BEGIN:VEVENT
DTSTART;VALUE=DATE:20211021
DTSTAMP:20260425T192130Z
SEQUENCE:0
SUMMARY:Year 1 and 2 students return back on site
UID:13336@alsiraatcollege
END:VEVENT
END:VCALENDAR
