BEGIN:VCALENDAR
PRODID:-
VERSION:2.0
BEGIN:VEVENT
DTSTART;VALUE=DATE:20211022
DTSTAMP:20260425T190457Z
SEQUENCE:0
SUMMARY:Year 1 and 2 students back on site
UID:13337@alsiraatcollege
END:VEVENT
END:VCALENDAR
