BEGIN:VCALENDAR
PRODID:-
VERSION:2.0
BEGIN:VEVENT
DTSTART;VALUE=DATE:20211125
DTSTAMP:20260425T110039Z
SEQUENCE:0
SUMMARY:School Tour (final tour of the year)
UID:13338@alsiraatcollege
END:VEVENT
END:VCALENDAR
