BEGIN:VCALENDAR
PRODID:-
VERSION:2.0
BEGIN:VEVENT
DTSTART;VALUE=DATE:20211112
DTSTAMP:20260425T141727Z
SEQUENCE:0
SUMMARY:Year 7&8 Boys Camp Kangaroobie
UID:13344@alsiraatcollege
END:VEVENT
END:VCALENDAR
