BEGIN:VCALENDAR
PRODID:-
VERSION:2.0
BEGIN:VEVENT
DTSTART;VALUE=DATE:20211113
DTSTAMP:20260425T141612Z
SEQUENCE:0
SUMMARY:Year 7&8 Boys Camp Kangaroobie
UID:13345@alsiraatcollege
END:VEVENT
END:VCALENDAR
