BEGIN:VCALENDAR
PRODID:-
VERSION:2.0
BEGIN:VEVENT
DTSTART;VALUE=DATE:20211115
DTSTAMP:20260425T123305Z
SEQUENCE:0
SUMMARY:Year 7&8 Boys Camp Kangaroobie
UID:13347@alsiraatcollege
END:VEVENT
END:VCALENDAR
