BEGIN:VCALENDAR
PRODID:-
VERSION:2.0
BEGIN:VEVENT
DTSTART;VALUE=DATE:20211119
DTSTAMP:20260425T123316Z
SEQUENCE:0
SUMMARY:Year 7&8 Girls Camp Kangaroobie
UID:13348@alsiraatcollege
END:VEVENT
END:VCALENDAR
