BEGIN:VCALENDAR
PRODID:-
VERSION:2.0
BEGIN:VEVENT
DTSTART;VALUE=DATE:20211121
DTSTAMP:20260425T123407Z
SEQUENCE:0
SUMMARY:Year 7&8 Girls Camp Kangaroobie
UID:13350@alsiraatcollege
END:VEVENT
END:VCALENDAR
