BEGIN:VCALENDAR
PRODID:-
VERSION:2.0
BEGIN:VEVENT
DTSTART;VALUE=DATE:20211122
DTSTAMP:20260425T105935Z
SEQUENCE:0
SUMMARY:Year 7&8 Girls Camp Kangaroobie
UID:13351@alsiraatcollege
END:VEVENT
END:VCALENDAR
