BEGIN:VCALENDAR
PRODID:-
VERSION:2.0
BEGIN:VEVENT
DTSTART;VALUE=DATE:20211103
DTSTAMP:20260425T154746Z
SEQUENCE:0
SUMMARY:Return to full time onsite learning for all year levels :)
UID:13352@alsiraatcollege
END:VEVENT
END:VCALENDAR
