BEGIN:VCALENDAR
PRODID:-
VERSION:2.0
BEGIN:VEVENT
DTSTART;VALUE=DATE:20211115
DTSTAMP:20260425T124352Z
SEQUENCE:0
SUMMARY:Years 9 - 11 only: Student free day
UID:13354@alsiraatcollege
END:VEVENT
END:VCALENDAR
