BEGIN:VCALENDAR
PRODID:-
VERSION:2.0
BEGIN:VEVENT
DTSTART;VALUE=DATE:20211116
DTSTAMP:20260425T123250Z
SEQUENCE:0
SUMMARY:Years 9 - 11 only: Student free day
UID:13355@alsiraatcollege
END:VEVENT
END:VCALENDAR
