BEGIN:VCALENDAR
PRODID:-
VERSION:2.0
BEGIN:VEVENT
DTSTART;VALUE=DATE:20211117
DTSTAMP:20260425T123305Z
SEQUENCE:0
SUMMARY:2022 VCE Transition commences
UID:13356@alsiraatcollege
END:VEVENT
END:VCALENDAR
