BEGIN:VCALENDAR
PRODID:-
VERSION:2.0
BEGIN:VEVENT
DTSTART;VALUE=DATE:20211110
DTSTAMP:20260425T141348Z
SEQUENCE:0
SUMMARY:Years 9 to 11 Exams
UID:13357@alsiraatcollege
END:VEVENT
END:VCALENDAR
