BEGIN:VCALENDAR
PRODID:-
VERSION:2.0
BEGIN:VEVENT
DTSTART;VALUE=DATE:20211109
DTSTAMP:20260425T141529Z
SEQUENCE:0
SUMMARY:Year 10 & 11 Exams
UID:13358@alsiraatcollege
END:VEVENT
END:VCALENDAR
