BEGIN:VCALENDAR
PRODID:-
VERSION:2.0
BEGIN:VEVENT
DTSTART;VALUE=DATE:20211111
DTSTAMP:20260425T141720Z
SEQUENCE:0
SUMMARY:Years 9 to 11 Exams
UID:13359@alsiraatcollege
END:VEVENT
END:VCALENDAR
