BEGIN:VCALENDAR
PRODID:-
VERSION:2.0
BEGIN:VEVENT
DTSTART;VALUE=DATE:20211112
DTSTAMP:20260425T141529Z
SEQUENCE:0
SUMMARY:Years 9 to 11 Exams
UID:13360@alsiraatcollege
END:VEVENT
END:VCALENDAR
