BEGIN:VCALENDAR
PRODID:-
VERSION:2.0
BEGIN:VEVENT
DTSTART;VALUE=DATE:20211109
DTSTAMP:20260425T141547Z
SEQUENCE:0
SUMMARY:Foundation 2022 Transition (Tuesdays option)
UID:13361@alsiraatcollege
END:VEVENT
END:VCALENDAR
