BEGIN:VCALENDAR
PRODID:-
VERSION:2.0
BEGIN:VEVENT
DTSTART;VALUE=DATE:20211116
DTSTAMP:20260425T123244Z
SEQUENCE:0
SUMMARY:Foundation 2022 Transition (Tuesdays option)
UID:13362@alsiraatcollege
END:VEVENT
END:VCALENDAR
