BEGIN:VCALENDAR
PRODID:-
VERSION:2.0
BEGIN:VEVENT
DTSTART;VALUE=DATE:20211112
DTSTAMP:20260425T141727Z
SEQUENCE:0
SUMMARY:Foundation 2022 Transition (Fridays option)
UID:13366@alsiraatcollege
END:VEVENT
END:VCALENDAR
