BEGIN:VCALENDAR
PRODID:-
VERSION:2.0
BEGIN:VEVENT
DTSTART;VALUE=DATE:20211119
DTSTAMP:20260425T123250Z
SEQUENCE:0
SUMMARY:Foundation 2022 Transition (Fridays option)
UID:13367@alsiraatcollege
END:VEVENT
END:VCALENDAR
