BEGIN:VCALENDAR
PRODID:-
VERSION:2.0
BEGIN:VEVENT
DTSTART;VALUE=DATE:20211126
DTSTAMP:20260425T105953Z
SEQUENCE:0
SUMMARY:Foundation 2022 Transition (Fridays option)
UID:13368@alsiraatcollege
END:VEVENT
END:VCALENDAR
