BEGIN:VCALENDAR
PRODID:-
VERSION:2.0
BEGIN:VEVENT
DTSTART;VALUE=DATE:20211126
LOCATION:Bellagio Receptions, 15 Yale Dr, Epping
DTSTAMP:20260425T105953Z
SEQUENCE:0
SUMMARY:Year 12 Graduation
UID:13371@alsiraatcollege
END:VEVENT
END:VCALENDAR
