BEGIN:VCALENDAR
PRODID:-
VERSION:2.0
BEGIN:VEVENT
DTSTART;VALUE=DATE:20220209
DTSTAMP:20260424T155225Z
SEQUENCE:0
SUMMARY:Year 7 Boys: Doxa Malmsbury Camp
UID:13377@alsiraatcollege
END:VEVENT
END:VCALENDAR
