BEGIN:VCALENDAR
PRODID:-
VERSION:2.0
BEGIN:VEVENT
DTSTART;VALUE=DATE:20211107
DTSTAMP:20260425T155138Z
SEQUENCE:0
SUMMARY:Year 6 Transition
UID:13379@alsiraatcollege
END:VEVENT
END:VCALENDAR
