BEGIN:VCALENDAR
PRODID:-
VERSION:2.0
BEGIN:VEVENT
DTSTART;VALUE=DATE:20220307
DTSTAMP:20260424T081804Z
SEQUENCE:0
SUMMARY:Year 9/10 ISSAV Secondary Futsal
UID:13380@alsiraatcollege
END:VEVENT
END:VCALENDAR
