BEGIN:VCALENDAR
PRODID:-
VERSION:2.0
BEGIN:VEVENT
DTSTART;VALUE=DATE:20220325
LOCATION:Oval B
DTSTAMP:20260424T044905Z
SEQUENCE:0
SUMMARY:Annual Sports Carnival and Fun Run
UID:13383@alsiraatcollege
END:VEVENT
END:VCALENDAR
