BEGIN:VCALENDAR
PRODID:-
VERSION:2.0
BEGIN:VEVENT
DTSTART;VALUE=DATE:20220310
DTSTAMP:20260424T081922Z
SEQUENCE:0
SUMMARY:Year 9/10: ISSAV Secondary Basketball
UID:13387@alsiraatcollege
END:VEVENT
END:VCALENDAR
