BEGIN:VCALENDAR
PRODID:-
VERSION:2.0
BEGIN:VEVENT
DTSTART;VALUE=DATE:20220308
DTSTAMP:20260424T081935Z
SEQUENCE:0
SUMMARY:Year 9/10G: ISSAV Futsal
UID:13388@alsiraatcollege
END:VEVENT
END:VCALENDAR
