BEGIN:VCALENDAR
PRODID:-
VERSION:2.0
BEGIN:VEVENT
DTSTART;VALUE=DATE:20220203
DTSTAMP:20260424T171140Z
SEQUENCE:0
SUMMARY:POSTPONED: Year 7 Welcome Dinner
UID:13390@alsiraatcollege
END:VEVENT
END:VCALENDAR
