BEGIN:VCALENDAR
PRODID:-
VERSION:2.0
BEGIN:VEVENT
DTSTART;VALUE=DATE:20220307
DTSTAMP:20260424T081922Z
SEQUENCE:0
SUMMARY:School Photo ID Day
UID:13398@alsiraatcollege
END:VEVENT
END:VCALENDAR
