BEGIN:VCALENDAR
PRODID:-
VERSION:2.0
BEGIN:VEVENT
DTSTART;VALUE=DATE:20220202
LOCATION:TEAMS
DTSTAMP:20260424T171247Z
SEQUENCE:0
SUMMARY:Ilm Information Session
UID:13399@alsiraatcollege
END:VEVENT
END:VCALENDAR
