BEGIN:VCALENDAR
PRODID:-
VERSION:2.0
BEGIN:VEVENT
DTSTART;VALUE=DATE:20220329
DTSTAMP:20260424T024610Z
SEQUENCE:0
SUMMARY:Year 10 Health Excursion: Yarra Bend Park
UID:13400@alsiraatcollege
END:VEVENT
END:VCALENDAR
