BEGIN:VCALENDAR
PRODID:-
VERSION:2.0
BEGIN:VEVENT
DTSTART;VALUE=DATE:20220321
DTSTAMP:20260424T044654Z
SEQUENCE:0
SUMMARY:Cultural Day Celebration
UID:13401@alsiraatcollege
END:VEVENT
END:VCALENDAR
