BEGIN:VCALENDAR
PRODID:-
VERSION:2.0
BEGIN:VEVENT
DTSTART;VALUE=DATE:20220210
LOCATION:Basketball Arena
DTSTAMP:20260424T163229Z
SEQUENCE:0
SUMMARY:Years 3 - 6 Teachers Meet & Greet
UID:13403@alsiraatcollege
END:VEVENT
END:VCALENDAR
