BEGIN:VCALENDAR
PRODID:-
VERSION:2.0
BEGIN:VEVENT
DTSTART;VALUE=DATE:20220204
DTSTAMP:20260424T171516Z
SEQUENCE:0
SUMMARY:Year 12 Study Camp
UID:13404@alsiraatcollege
END:VEVENT
END:VCALENDAR
