BEGIN:VCALENDAR
PRODID:-
VERSION:2.0
BEGIN:VEVENT
DTSTART;VALUE=DATE:20220205
DTSTAMP:20260424T172441Z
SEQUENCE:0
SUMMARY:Year 12 Study Camp
UID:13405@alsiraatcollege
END:VEVENT
END:VCALENDAR
