BEGIN:VCALENDAR
PRODID:-
VERSION:2.0
BEGIN:VEVENT
DTSTART;VALUE=DATE:20220206
DTSTAMP:20260424T172013Z
SEQUENCE:0
SUMMARY:Year 12 Study Camp
UID:13406@alsiraatcollege
END:VEVENT
END:VCALENDAR
