BEGIN:VCALENDAR
PRODID:-
VERSION:2.0
BEGIN:VEVENT
DTSTART;VALUE=DATE:20220208
LOCATION:Next to Canteen
DTSTAMP:20260424T154641Z
SEQUENCE:0
SUMMARY:PFC: Bake Sale Fundraiser
UID:13407@alsiraatcollege
END:VEVENT
END:VCALENDAR
