BEGIN:VCALENDAR
PRODID:-
VERSION:2.0
BEGIN:VEVENT
DTSTART;VALUE=DATE:20220215
LOCATION:M Building Auditorium
DTSTAMP:20260424T150905Z
SEQUENCE:0
SUMMARY:Years 7 - 12: Student Leadership Assembly 2022
UID:13408@alsiraatcollege
END:VEVENT
END:VCALENDAR
