BEGIN:VCALENDAR
PRODID:-
VERSION:2.0
BEGIN:VEVENT
DTSTART;VALUE=DATE:20220305
LOCATION:B Assembly Hall
DTSTAMP:20260424T095737Z
SEQUENCE:0
SUMMARY:Hifz Meet And Greet
UID:13409@alsiraatcollege
END:VEVENT
END:VCALENDAR
