BEGIN:VCALENDAR
PRODID:-
VERSION:2.0
BEGIN:VEVENT
DTSTART;VALUE=DATE:20220308
LOCATION:St. Kilda
DTSTAMP:20260424T081758Z
SEQUENCE:0
SUMMARY:ASCA Members: Watch Cricket Match
UID:13410@alsiraatcollege
END:VEVENT
END:VCALENDAR
