BEGIN:VCALENDAR
PRODID:-
VERSION:2.0
BEGIN:VEVENT
DTSTART;VALUE=DATE:20220323
LOCATION:North Wing Auditorium
DTSTAMP:20260424T044250Z
SEQUENCE:0
SUMMARY:Year 4 & Hifz A Incursion: African Drummers
UID:13411@alsiraatcollege
END:VEVENT
END:VCALENDAR
