BEGIN:VCALENDAR
PRODID:-
VERSION:2.0
BEGIN:VEVENT
DTSTART;VALUE=DATE:20220215
LOCATION:TEAMS
DTSTAMP:20260424T151641Z
SEQUENCE:0
SUMMARY:Secondary: New Students Morning Tea
UID:13412@alsiraatcollege
END:VEVENT
END:VCALENDAR
