BEGIN:VCALENDAR
PRODID:-
VERSION:2.0
BEGIN:VEVENT
DTSTART;VALUE=DATE:20220304
DTSTAMP:20260424T095904Z
SEQUENCE:0
SUMMARY:Clean-Up Australia Day
UID:13415@alsiraatcollege
END:VEVENT
END:VCALENDAR
