BEGIN:VCALENDAR
PRODID:-
VERSION:2.0
BEGIN:VEVENT
DTSTART;VALUE=DATE:20220217
LOCATION:M Auditorium
DTSTAMP:20260424T134651Z
SEQUENCE:0
SUMMARY:Secondary SRCs: Student Leaders Workshop Part I
UID:13416@alsiraatcollege
END:VEVENT
END:VCALENDAR
