BEGIN:VCALENDAR
PRODID:-
VERSION:2.0
BEGIN:VEVENT
DTSTART;VALUE=DATE:20220222
LOCATION:M Auditorium
DTSTAMP:20260424T113833Z
SEQUENCE:0
SUMMARY:Year 9 Humanities Incursion: Barakah Model of Investment
UID:13417@alsiraatcollege
END:VEVENT
END:VCALENDAR
