BEGIN:VCALENDAR
PRODID:-
VERSION:2.0
BEGIN:VEVENT
DTSTART;VALUE=DATE:20220304
LOCATION:M Building Auditorium on site
DTSTAMP:20260424T095840Z
SEQUENCE:0
SUMMARY:PFC's International Women's Day Celebration
UID:13423@alsiraatcollege
END:VEVENT
END:VCALENDAR
