BEGIN:VCALENDAR
PRODID:-
VERSION:2.0
BEGIN:VEVENT
DTSTART;VALUE=DATE:20220330
LOCATION:M Building Auditorium
DTSTAMP:20260424T030550Z
SEQUENCE:0
SUMMARY:Look and Learn School Tour
UID:13424@alsiraatcollege
END:VEVENT
END:VCALENDAR
