BEGIN:VCALENDAR
PRODID:-
VERSION:2.0
BEGIN:VEVENT
DTSTART;VALUE=DATE:20220309
LOCATION:M Building Auditorium
DTSTAMP:20260424T081758Z
SEQUENCE:0
SUMMARY:Look and Learn School Tour
UID:13425@alsiraatcollege
END:VEVENT
END:VCALENDAR
